BEGIN:VCALENDAR
VERSION:2.0
PRODID:-//wp-events-plugin.com//7.2.3.1//EN
BEGIN:VEVENT
UID:1@comedywit.com
DTSTART:20260206T200000Z
DTEND:20260206T200000Z
DTSTAMP:20260131T182626Z
URL:https://comedywit.com/tours/funny-first-fridays-comedy-on-the-clay/
SUMMARY:Funny First Fridays - Comedy on the Clay
DESCRIPTION:Fun show in Downtown Duluth\, GA
ATTACH;FMTTYPE=image/jpeg:https://comedywit.com/wp-content/uploads/2026/01
 /February-2026-Comedy-WEB.jpg
LOCATION:Red Clay Music Foundry\, 3116 Main St.\, Duluth\, GA\, 30096\, Uni
 ted States
X-APPLE-STRUCTURED-LOCATION;VALUE=URI;X-ADDRESS=3116 Main St.\, Duluth\, GA
 \, 30096\, United States;X-APPLE-RADIUS=100;X-TITLE=Red Clay Music Foundry
 :geo:0,0
END:VEVENT
END:VCALENDAR